BEGIN:VCALENDAR
VERSION:2.0
PRODID:-//Promote Fox Lake - ECPv6.15.20//NONSGML v1.0//EN
CALSCALE:GREGORIAN
METHOD:PUBLISH
X-WR-CALNAME:Promote Fox Lake
X-ORIGINAL-URL:https://promotefoxlake.org
X-WR-CALDESC:Events for Promote Fox Lake
REFRESH-INTERVAL;VALUE=DURATION:PT1H
X-Robots-Tag:noindex
X-PUBLISHED-TTL:PT1H
BEGIN:VTIMEZONE
TZID:America/Chicago
BEGIN:DAYLIGHT
TZOFFSETFROM:-0600
TZOFFSETTO:-0500
TZNAME:CDT
DTSTART:20250309T080000
END:DAYLIGHT
BEGIN:STANDARD
TZOFFSETFROM:-0500
TZOFFSETTO:-0600
TZNAME:CST
DTSTART:20251102T070000
END:STANDARD
BEGIN:DAYLIGHT
TZOFFSETFROM:-0600
TZOFFSETTO:-0500
TZNAME:CDT
DTSTART:20260308T080000
END:DAYLIGHT
BEGIN:STANDARD
TZOFFSETFROM:-0500
TZOFFSETTO:-0600
TZNAME:CST
DTSTART:20261101T070000
END:STANDARD
BEGIN:DAYLIGHT
TZOFFSETFROM:-0600
TZOFFSETTO:-0500
TZNAME:CDT
DTSTART:20270314T080000
END:DAYLIGHT
BEGIN:STANDARD
TZOFFSETFROM:-0500
TZOFFSETTO:-0600
TZNAME:CST
DTSTART:20271107T070000
END:STANDARD
END:VTIMEZONE
BEGIN:VEVENT
DTSTART;TZID=America/Chicago:20260425T100000
DTEND;TZID=America/Chicago:20260425T120000
DTSTAMP:20260425T051954
CREATED:20260211T015830Z
LAST-MODIFIED:20260211T022132Z
UID:1615-1777111200-1777118400@promotefoxlake.org
SUMMARY:Earth Day Everyday Clean Up 2026
DESCRIPTION:[vc_row][vc_column][vc_column_text css=””]This annual event takes place at Millennium Park in Fox Lake. Participants gather at the park before being sent around town to cleanup trash along the roadsides.[/vc_column_text][/vc_column][/vc_row]
URL:https://promotefoxlake.org/event/earth-day-everyday-clean-up-2026/
LOCATION:Millennium Park\, 115 Center St\, Fox Lake\, IL\, 60020
ORGANIZER;CN="Promote Fox Lake":MAILTO:info@promotefoxlake.org
END:VEVENT
END:VCALENDAR