BEGIN:VCALENDAR
VERSION:2.0
PRODID:-//Promote Fox Lake - ECPv6.15.20//NONSGML v1.0//EN
CALSCALE:GREGORIAN
METHOD:PUBLISH
X-WR-CALNAME:Promote Fox Lake
X-ORIGINAL-URL:https://promotefoxlake.org
X-WR-CALDESC:Events for Promote Fox Lake
REFRESH-INTERVAL;VALUE=DURATION:PT1H
X-Robots-Tag:noindex
X-PUBLISHED-TTL:PT1H
BEGIN:VTIMEZONE
TZID:America/Chicago
BEGIN:DAYLIGHT
TZOFFSETFROM:-0600
TZOFFSETTO:-0500
TZNAME:CDT
DTSTART:20230312T080000
END:DAYLIGHT
BEGIN:STANDARD
TZOFFSETFROM:-0500
TZOFFSETTO:-0600
TZNAME:CST
DTSTART:20231105T070000
END:STANDARD
BEGIN:DAYLIGHT
TZOFFSETFROM:-0600
TZOFFSETTO:-0500
TZNAME:CDT
DTSTART:20240310T080000
END:DAYLIGHT
BEGIN:STANDARD
TZOFFSETFROM:-0500
TZOFFSETTO:-0600
TZNAME:CST
DTSTART:20241103T070000
END:STANDARD
BEGIN:DAYLIGHT
TZOFFSETFROM:-0600
TZOFFSETTO:-0500
TZNAME:CDT
DTSTART:20250309T080000
END:DAYLIGHT
BEGIN:STANDARD
TZOFFSETFROM:-0500
TZOFFSETTO:-0600
TZNAME:CST
DTSTART:20251102T070000
END:STANDARD
BEGIN:DAYLIGHT
TZOFFSETFROM:-0600
TZOFFSETTO:-0500
TZNAME:CDT
DTSTART:20260308T080000
END:DAYLIGHT
BEGIN:STANDARD
TZOFFSETFROM:-0500
TZOFFSETTO:-0600
TZNAME:CST
DTSTART:20261101T070000
END:STANDARD
END:VTIMEZONE
BEGIN:VEVENT
DTSTART;TZID=America/Chicago:20250426T100000
DTEND;TZID=America/Chicago:20250426T120000
DTSTAMP:20260425T165313
CREATED:20250317T153122Z
LAST-MODIFIED:20250317T153220Z
UID:1474-1745661600-1745668800@promotefoxlake.org
SUMMARY:Earth Day Everyday Community Clean Up 2025
DESCRIPTION:Join us on Saturday\, April 26th at the Millennium Park Gazebo in Fox Lake for our 2025 Earth Day Community Clean Up. \nVolunteers will meet at the gazebo for coffee and donuts. Trash bags and gloves will be provided and volunteers will be sent around town to help make Fox Lake shine. \nClick To Download PDF \n  \nWhere: Millennium Park Gazebo\, 23 Rollins Rd in Fox Lake\nDate: Saturday\, April 26\nTime: 10am – 12pm \nActivities:\n– Donuts and coffee\n– Trash bags and gloves will be provided\n– Volunteers will be sent out to clean up around town \nThere will also be onsite electronic\, battery and shoe recycling collection available from 10am-12pm. Clean out your home while we clean up our community! \nSpecial Thanks: \n\nVillage of Fox Lake\nGrant Township
URL:https://promotefoxlake.org/event/earth-day-everyday-community-clean-up-2025/
LOCATION:Millennium Park\, 115 Center St\, Fox Lake\, IL\, 60020
CATEGORIES:Earth Day Cleanup
ORGANIZER;CN="Promote Fox Lake":MAILTO:info@promotefoxlake.org
END:VEVENT
BEGIN:VEVENT
DTSTART;TZID=America/Chicago:20240420T100000
DTEND;TZID=America/Chicago:20240420T120000
DTSTAMP:20260425T165313
CREATED:20240327T221056Z
LAST-MODIFIED:20250317T164200Z
UID:1418-1713607200-1713614400@promotefoxlake.org
SUMMARY:Earth Day Everyday Community Clean Up 2024
DESCRIPTION:Join us on Saturday\, April 20th at the Millennium Park Gazebo in Fox Lake for our 2024 Earth Day Community Clean Up. \nVolunteers will meet at the gazebo for coffee and donuts. Trash bags and gloves will be provided and volunteers will be sent around town to help make Fox Lake shine. \nClick to Download PDF \nWhere: Millennium Park Gazebo\, 23 Rollins Rd in Fox Lake\nDate: Saturday\, April 20 (Rain date April 27)\nTime: 10am – 12pm \nActivities:\n– Donuts and coffee\n– Trash bags and gloves will be provided\n– Volunteers will be sent out to clean up around town \nThere will also be onsite electronic\, battery and shoe recycling collection available from 10am-12pm. Clean out your home while we clean up our community! \nSpecial Thanks: \n\nDunkin Donuts\nVillage of Fox Lake\nGrant Township
URL:https://promotefoxlake.org/event/earth-day-everyday-community-clean-up-2024/
LOCATION:Millennium Park\, 115 Center St\, Fox Lake\, IL\, 60020
CATEGORIES:Earth Day Cleanup
ORGANIZER;CN="Promote Fox Lake":MAILTO:info@promotefoxlake.org
END:VEVENT
END:VCALENDAR